BEGIN:VCALENDAR
VERSION:2.0
PRODID:SchoolNow
CALSCALE:GREGORIAN
BEGIN:VEVENT
UID:9420fb8a-9c55-11ef-af09-02b4517d4da5
DTSTAMP:20241106T154124Z
SUMMARY:Board of Education Meeting
URL;VALUE=URI:https://www.arbor145.org/calendar/6969835/board-of-education-
 meeting
DTSTART:20250227T010000Z
DTEND:20250227T020000Z
END:VEVENT
END:VCALENDAR
