BEGIN:VCALENDAR
VERSION:2.0
PRODID:SchoolNow
CALSCALE:GREGORIAN
BEGIN:VEVENT
UID:a5048e80-9c55-11ef-b783-0a58a9feac02
DTSTAMP:20241106T154152Z
SUMMARY:Board of Education Meeting
URL;VALUE=URI:https://www.arbor145.org/calendar/6969836/board-of-education-
 meeting
DTSTART:20250313T000000Z
DTEND:20250313T010000Z
END:VEVENT
END:VCALENDAR
