BEGIN:VCALENDAR
VERSION:2.0
PRODID:SchoolNow
CALSCALE:GREGORIAN
BEGIN:VEVENT
UID:b53739e2-9c55-11ef-aebe-0a58a9feac02
DTSTAMP:20241106T154219Z
SUMMARY:Board of Education Meeting
URL;VALUE=URI:https://www.arbor145.org/calendar/6969837/board-of-education-
 meeting
DTSTART:20250424T000000Z
DTEND:20250424T010000Z
END:VEVENT
END:VCALENDAR
