BEGIN:VCALENDAR
VERSION:2.0
PRODID:SchoolNow
CALSCALE:GREGORIAN
BEGIN:VEVENT
UID:da3e6418-9c55-11ef-84c1-0a58a9feac02
DTSTAMP:20241106T154321Z
SUMMARY:Board of Education Meeting
URL;VALUE=URI:https://www.arbor145.org/calendar/6969838/board-of-education-
 meeting
DTSTART:20250529T000000Z
DTEND:20250529T010000Z
END:VEVENT
END:VCALENDAR
