BEGIN:VCALENDAR
VERSION:2.0
PRODID:SchoolNow
CALSCALE:GREGORIAN
BEGIN:VEVENT
UID:e9b1d9c0-9c55-11ef-8132-0a58a9feac02
DTSTAMP:20241106T154347Z
SUMMARY:Board of Education Meeting
URL;VALUE=URI:https://www.arbor145.org/calendar/6969839/board-of-education-
 meeting
DTSTART:20250626T000000Z
DTEND:20250626T010000Z
END:VEVENT
END:VCALENDAR
