BEGIN:VCALENDAR
VERSION:2.0
PRODID:SchoolNow
CALSCALE:GREGORIAN
BEGIN:VEVENT
UID:cfa9da40-1bc2-11f0-ba27-0a58a9feac02
DTSTAMP:20250417T193317Z
SUMMARY:Annual Review/Ptac Meeting
URL;VALUE=URI:https://www.arbor145.org/calendar/7947843/annual-review-ptac-
 meeting
DTSTART:20250519T180000Z
DTEND:20250519T190000Z
END:VEVENT
END:VCALENDAR
