BEGIN:VCALENDAR
VERSION:2.0
PRODID:SchoolNow
CALSCALE:GREGORIAN
BEGIN:VEVENT
UID:4d6a4c0e-5b4b-11f0-a97c-0a58a9feac02
DTSTAMP:20250707T155902Z
SUMMARY:KHS Move in Night
URL;VALUE=URI:https://www.arbor145.org/calendar/8392929/khs-move-in-night
DTSTART:20250818T203000Z
DTEND:20250818T220000Z
END:VEVENT
END:VCALENDAR
