BEGIN:VCALENDAR
VERSION:2.0
PRODID:SchoolNow
CALSCALE:GREGORIAN
BEGIN:VEVENT
UID:755b1b9e-5b4b-11f0-aa3e-0273f81fc779
DTSTAMP:20250707T160009Z
SUMMARY:Kindergarten Bus Run
URL;VALUE=URI:https://www.arbor145.org/calendar/8392930/kindergarten-bus-ru
 n
DTSTART;VALUE=DATE:20250819
DTEND;VALUE=DATE:20250820
END:VEVENT
END:VCALENDAR
