BEGIN:VCALENDAR
VERSION:2.0
PRODID:SchoolNow
CALSCALE:GREGORIAN
BEGIN:VEVENT
UID:c42abe96-5b4b-11f0-9c09-0a58a9feac02
DTSTAMP:20250707T160222Z
SUMMARY:First Day of School - Trimester 1 Begins
URL;VALUE=URI:https://www.arbor145.org/calendar/8392931/first-day-of-school
 -trimester-1-begins
DTSTART;VALUE=DATE:20250820
DTEND;VALUE=DATE:20250821
END:VEVENT
END:VCALENDAR
