BEGIN:VCALENDAR
VERSION:2.0
PRODID:SchoolNow
CALSCALE:GREGORIAN
BEGIN:VEVENT
UID:dd9b2708-5b4b-11f0-974a-0e5cca9c67d5
DTSTAMP:20250708T152217Z
SUMMARY:APMS Locker Prep
URL;VALUE=URI:https://www.arbor145.org/calendar/8392932/apms-locker-prep
DTSTART:20250814T200000Z
DTEND:20250814T230000Z
END:VEVENT
END:VCALENDAR
