BEGIN:VCALENDAR
VERSION:2.0
PRODID:SchoolNow
CALSCALE:GREGORIAN
BEGIN:VEVENT
UID:fc9afe30-5b4b-11f0-b111-0a58a9feac02
DTSTAMP:20250707T160356Z
SUMMARY:Institute Day
URL;VALUE=URI:https://www.arbor145.org/calendar/8392933/institute-day
DTSTART:20250818T130000Z
DTEND:20250818T200000Z
END:VEVENT
END:VCALENDAR
