BEGIN:VCALENDAR
VERSION:2.0
PRODID:SchoolNow
CALSCALE:GREGORIAN
BEGIN:VEVENT
UID:0c6fb710-5b4c-11f0-a4a4-0a58a9feac02
DTSTAMP:20250707T160423Z
SUMMARY:Institute Day
URL;VALUE=URI:https://www.arbor145.org/calendar/8392934/institute-day
DTSTART:20250819T130000Z
DTEND:20250819T200000Z
END:VEVENT
END:VCALENDAR
