BEGIN:VCALENDAR
VERSION:2.0
PRODID:SchoolNow
CALSCALE:GREGORIAN
BEGIN:VEVENT
UID:bfd671a8-5b61-11f0-ade9-0a58a9feac02
DTSTAMP:20250707T183943Z
SUMMARY:APMS Expectation Night for Parents & Students 5th - 8th Grade
URL;VALUE=URI:https://www.arbor145.org/calendar/8392985/apms-expectation-ni
 ght-for-parents-students-5th-8th-grade
DTSTART:20250828T230000Z
DTEND:20250829T003000Z
END:VEVENT
END:VCALENDAR
