BEGIN:VCALENDAR
VERSION:2.0
PRODID:SchoolNow
CALSCALE:GREGORIAN
BEGIN:VEVENT
UID:d2e882c2-5b61-11f0-bd60-0a58a9feac02
DTSTAMP:20250708T152420Z
SUMMARY:Labor Day - School Closed
URL;VALUE=URI:https://www.arbor145.org/calendar/8392990/labor-day-no-school
DTSTART;VALUE=DATE:20250901
DTEND;VALUE=DATE:20250902
END:VEVENT
END:VCALENDAR
