BEGIN:VCALENDAR
VERSION:2.0
PRODID:SchoolNow
CALSCALE:GREGORIAN
BEGIN:VEVENT
UID:0fb3a5ec-5b62-11f0-8629-0a58a9feac02
DTSTAMP:20250707T184157Z
SUMMARY:APMS 5th Grade Beginning Band Sign Up
URL;VALUE=URI:https://www.arbor145.org/calendar/8392993/apms-5th-grade-begi
 nning-band-sign-up
DTSTART:20250904T230000Z
DTEND:20250905T003000Z
END:VEVENT
END:VCALENDAR
