BEGIN:VCALENDAR
VERSION:2.0
PRODID:SchoolNow
CALSCALE:GREGORIAN
BEGIN:VEVENT
UID:2889ec7a-5b62-11f0-a7a0-0a58a9feac02
DTSTAMP:20250707T184239Z
SUMMARY:APMS Fall Picture Day
URL;VALUE=URI:https://www.arbor145.org/calendar/8392994/apms-fall-picture-d
 ay
DTSTART;VALUE=DATE:20250910
DTEND;VALUE=DATE:20250911
END:VEVENT
END:VCALENDAR
