BEGIN:VCALENDAR
VERSION:2.0
PRODID:SchoolNow
CALSCALE:GREGORIAN
BEGIN:VEVENT
UID:42f68190-5b62-11f0-a7ea-0a58a9feac02
DTSTAMP:20250707T185053Z
SUMMARY:Mid Trimester I Grades Due
URL;VALUE=URI:https://www.arbor145.org/calendar/8392995/mid-trimester-1-gra
 des-due
DTSTART;VALUE=DATE:20251001
DTEND;VALUE=DATE:20251002
END:VEVENT
END:VCALENDAR
