BEGIN:VCALENDAR
VERSION:2.0
PRODID:SchoolNow
CALSCALE:GREGORIAN
BEGIN:VEVENT
UID:70420ebc-5b62-11f0-99fc-0a58a9feac02
DTSTAMP:20250707T185104Z
SUMMARY:Mid Trimester I Progress Reports Available in ALMA
URL;VALUE=URI:https://www.arbor145.org/calendar/8392996/mid-trimester-1-pro
 gress-reports-available-in-alma
DTSTART;VALUE=DATE:20251003
DTEND;VALUE=DATE:20251004
END:VEVENT
END:VCALENDAR
