BEGIN:VCALENDAR
VERSION:2.0
PRODID:SchoolNow
CALSCALE:GREGORIAN
BEGIN:VEVENT
UID:7ef38e0e-5b62-11f0-8e12-0a58a9feac02
DTSTAMP:20250707T184504Z
SUMMARY:Columbus Day - School Closed
URL;VALUE=URI:https://www.arbor145.org/calendar/8392997/columbus-day-school
 -closed
DTSTART;VALUE=DATE:20251013
DTEND;VALUE=DATE:20251014
END:VEVENT
END:VCALENDAR
