BEGIN:VCALENDAR
VERSION:2.0
PRODID:SchoolNow
CALSCALE:GREGORIAN
BEGIN:VEVENT
UID:a9fcc912-5b62-11f0-ad7f-0a58a9feac02
DTSTAMP:20250707T184616Z
SUMMARY:APMS Fall Picture Retakes
URL;VALUE=URI:https://www.arbor145.org/calendar/8392998/apms-fall-picture-r
 etakes
DTSTART;VALUE=DATE:20251015
DTEND;VALUE=DATE:20251016
END:VEVENT
END:VCALENDAR
