BEGIN:VCALENDAR
VERSION:2.0
PRODID:SchoolNow
CALSCALE:GREGORIAN
BEGIN:VEVENT
UID:d142f88e-5b62-11f0-b7df-0a58a9feac02
DTSTAMP:20250707T184722Z
SUMMARY:Red Ribbon Week
URL;VALUE=URI:https://www.arbor145.org/calendar/8392999/red-ribbon-week
DTSTART;VALUE=DATE:20251023
DTEND;VALUE=DATE:20251101
END:VEVENT
END:VCALENDAR
