BEGIN:VCALENDAR
VERSION:2.0
PRODID:SchoolNow
CALSCALE:GREGORIAN
BEGIN:VEVENT
UID:d8f70e8c-5b65-11f0-9159-0ea7bcabb9b9
DTSTAMP:20250707T190903Z
SUMMARY:Martin Luther King's Birthday - School Closed
URL;VALUE=URI:https://www.arbor145.org/calendar/8393017/martin-luther-kings
 -birthday-school-closed
DTSTART;VALUE=DATE:20260119
DTEND;VALUE=DATE:20260120
END:VEVENT
END:VCALENDAR
