BEGIN:VCALENDAR
VERSION:2.0
PRODID:SchoolNow
CALSCALE:GREGORIAN
BEGIN:VEVENT
UID:f4cbd256-5b73-11f0-816b-0a58a9feac02
DTSTAMP:20250707T205003Z
SUMMARY:AES 12:30pm Dismissal
URL;VALUE=URI:https://www.arbor145.org/calendar/8393727/aes-12-30pm-dismiss
 al
DTSTART;VALUE=DATE:20250529
DTEND;VALUE=DATE:20250530
END:VEVENT
END:VCALENDAR
