BEGIN:VCALENDAR
VERSION:2.0
PRODID:SchoolNow
CALSCALE:GREGORIAN
BEGIN:VEVENT
UID:46bbc926-5c1a-11f0-821d-02638327b561
DTSTAMP:20250708T164037Z
SUMMARY:KHS Curriculum Night
URL;VALUE=URI:https://www.arbor145.org/calendar/8396040/khs-curriculum-nigh
 t
DTSTART;VALUE=DATE:20250904
DTEND;VALUE=DATE:20250905
END:VEVENT
END:VCALENDAR
