BEGIN:VCALENDAR
VERSION:2.0
PRODID:SchoolNow
CALSCALE:GREGORIAN
BEGIN:VEVENT
UID:53994772-5c1a-11f0-9c1f-0a58a9feac02
DTSTAMP:20250708T164058Z
SUMMARY:KHS Fall Pictures
URL;VALUE=URI:https://www.arbor145.org/calendar/8396041/khs-fall-pictures
DTSTART;VALUE=DATE:20250905
DTEND;VALUE=DATE:20250906
END:VEVENT
END:VCALENDAR
