BEGIN:VCALENDAR
VERSION:2.0
PRODID:SchoolNow
CALSCALE:GREGORIAN
BEGIN:VEVENT
UID:80995730-5c1a-11f0-9183-0a58a9feac02
DTSTAMP:20250710T173247Z
SUMMARY:KHS Aimsweb Benchmarking
URL;VALUE=URI:https://www.arbor145.org/calendar/8396042/aims-web-benchmarki
 ng
DTSTART;VALUE=DATE:20250909
DTEND;VALUE=DATE:20250912
END:VEVENT
END:VCALENDAR
