BEGIN:VCALENDAR
VERSION:2.0
PRODID:SchoolNow
CALSCALE:GREGORIAN
BEGIN:VEVENT
UID:962b42b6-5c1a-11f0-b751-0a58a9feac02
DTSTAMP:20250708T164306Z
SUMMARY:No Preschool/Screening ALL DAY
URL;VALUE=URI:https://www.arbor145.org/calendar/8396043/no-preschool-screen
 ing-all-day
DTSTART;VALUE=DATE:20250926
DTEND;VALUE=DATE:20250927
END:VEVENT
END:VCALENDAR
