BEGIN:VCALENDAR
VERSION:2.0
PRODID:SchoolNow
CALSCALE:GREGORIAN
BEGIN:VEVENT
UID:7227ff82-5c1d-11f0-a699-0a58a9feac02
DTSTAMP:20250708T170450Z
SUMMARY:KIDS 40th Day Data Reporting
URL;VALUE=URI:https://www.arbor145.org/calendar/8396049/kids-40th-day-data-
 reporting-clone
DTSTART;VALUE=DATE:20251016
DTEND;VALUE=DATE:20251017
END:VEVENT
END:VCALENDAR
