BEGIN:VCALENDAR
VERSION:2.0
PRODID:SchoolNow
CALSCALE:GREGORIAN
BEGIN:VEVENT
UID:e976cf78-5c1d-11f0-8ed4-02685cdb2011
DTSTAMP:20250708T170638Z
SUMMARY:KHS Fall Book Fair
URL;VALUE=URI:https://www.arbor145.org/calendar/8396050/khs-fall-book-fair-
 clone
DTSTART;VALUE=DATE:20251028
DTEND;VALUE=DATE:20251030
END:VEVENT
END:VCALENDAR
