BEGIN:VCALENDAR
VERSION:2.0
PRODID:SchoolNow
CALSCALE:GREGORIAN
BEGIN:VEVENT
UID:15819290-5c20-11f0-871f-0273f81fc779
DTSTAMP:20250708T172211Z
SUMMARY:AES Move in Night
URL;VALUE=URI:https://www.arbor145.org/calendar/8396062/aes-move-in-night-c
 lone
DTSTART:20250818T210000Z
DTEND:20250818T223000Z
END:VEVENT
END:VCALENDAR
