BEGIN:VCALENDAR
VERSION:2.0
PRODID:SchoolNow
CALSCALE:GREGORIAN
BEGIN:VEVENT
UID:0891bb90-5c35-11f0-bf1c-0e5cca9c67d5
DTSTAMP:20250708T195209Z
SUMMARY:AES Fall Picture Day
URL;VALUE=URI:https://www.arbor145.org/calendar/8396213/aes-fall-picture-da
 y
DTSTART;VALUE=DATE:20250909
DTEND;VALUE=DATE:20250910
END:VEVENT
END:VCALENDAR
