BEGIN:VCALENDAR
VERSION:2.0
PRODID:SchoolNow
CALSCALE:GREGORIAN
BEGIN:VEVENT
UID:8b9f44ca-5c36-11f0-a46d-0a58a9feac02
DTSTAMP:20250708T200258Z
SUMMARY:AES Halloween Parade 10:00am
URL;VALUE=URI:https://www.arbor145.org/calendar/8396968/aes-halloween-parad
 e-clone
DTSTART;VALUE=DATE:20251031
DTEND;VALUE=DATE:20251101
END:VEVENT
END:VCALENDAR
