BEGIN:VCALENDAR
VERSION:2.0
PRODID:SchoolNow
CALSCALE:GREGORIAN
BEGIN:VEVENT
UID:a536de48-5c36-11f0-94ed-0a58a9feac02
DTSTAMP:20250708T200341Z
SUMMARY:AES Picture Retakes
URL;VALUE=URI:https://www.arbor145.org/calendar/8396969/aes-picture-retakes
 -clone
DTSTART;VALUE=DATE:20251014
DTEND;VALUE=DATE:20251015
END:VEVENT
END:VCALENDAR
