BEGIN:VCALENDAR
VERSION:2.0
PRODID:SchoolNow
CALSCALE:GREGORIAN
BEGIN:VEVENT
UID:b7ad30ae-5dc1-11f0-9b40-0e5cca9c67d5
DTSTAMP:20250729T201552Z
SUMMARY:SOS Curriculum Night
URL;VALUE=URI:https://www.arbor145.org/calendar/8402773/sos-curriculum-nigh
 t-clone
DTSTART:20250826T210000Z
DTEND:20250826T223000Z
END:VEVENT
END:VCALENDAR
