BEGIN:VCALENDAR
VERSION:2.0
PRODID:SchoolNow
CALSCALE:GREGORIAN
BEGIN:VEVENT
UID:db44426e-5dc1-11f0-b21e-0ed8963db997
DTSTAMP:20250710T191243Z
SUMMARY:SOS Fall Pictures
URL;VALUE=URI:https://www.arbor145.org/calendar/8402774/khs-fall-pictures-c
 lone
DTSTART;VALUE=DATE:20250916
DTEND;VALUE=DATE:20250917
END:VEVENT
END:VCALENDAR
