BEGIN:VCALENDAR
VERSION:2.0
PRODID:SchoolNow
CALSCALE:GREGORIAN
BEGIN:VEVENT
UID:f99ab43c-5dc1-11f0-94c2-02638327b561
DTSTAMP:20250710T192245Z
SUMMARY:SOS Halloween Parade 10:30am
URL;VALUE=URI:https://www.arbor145.org/calendar/8402775/sos-halloween-parad
 e-clone
DTSTART;VALUE=DATE:20251031
DTEND;VALUE=DATE:20251101
END:VEVENT
END:VCALENDAR
