BEGIN:VCALENDAR
VERSION:2.0
PRODID:SchoolNow
CALSCALE:GREGORIAN
BEGIN:VEVENT
UID:2c76c51c-5dc2-11f0-95da-02638327b561
DTSTAMP:20250710T191459Z
SUMMARY:SOS Winter Testing
URL;VALUE=URI:https://www.arbor145.org/calendar/8402777/star-360-testing-cl
 one
DTSTART;VALUE=DATE:20260112
DTEND;VALUE=DATE:20260117
END:VEVENT
END:VCALENDAR
