BEGIN:VCALENDAR
VERSION:2.0
PRODID:SchoolNow
CALSCALE:GREGORIAN
BEGIN:VEVENT
UID:15928168-5dc4-11f0-9276-0a58a9feac02
DTSTAMP:20250710T192931Z
SUMMARY:APMS Volleyball Arbor @ Central Park
URL;VALUE=URI:https://www.arbor145.org/calendar/8402800/apms-volleyball-arb
 or-vs-central-park-tentative-clone
DTSTART;VALUE=DATE:20250827
DTEND;VALUE=DATE:20250828
END:VEVENT
END:VCALENDAR
