BEGIN:VCALENDAR
VERSION:2.0
PRODID:SchoolNow
CALSCALE:GREGORIAN
BEGIN:VEVENT
UID:2b87f750-5dc4-11f0-a10a-0affe40e2d29
DTSTAMP:20250806T164916Z
SUMMARY:APMS Volleyball Arbor vs Independence
URL;VALUE=URI:https://www.arbor145.org/calendar/8402801/apms-volleyball-arb
 or-independence-clone
DTSTART;VALUE=DATE:20250917
DTEND;VALUE=DATE:20250918
END:VEVENT
END:VCALENDAR
