BEGIN:VCALENDAR
VERSION:2.0
PRODID:SchoolNow
CALSCALE:GREGORIAN
BEGIN:VEVENT
UID:475fdd9e-5dc4-11f0-aefe-0a58a9feac02
DTSTAMP:20250710T193004Z
SUMMARY:APMS Volleyball Arbor vs Finley
URL;VALUE=URI:https://www.arbor145.org/calendar/8402802/apms-volleyball-arb
 or-finley-clone
DTSTART;VALUE=DATE:20250903
DTEND;VALUE=DATE:20250904
END:VEVENT
END:VCALENDAR
