BEGIN:VCALENDAR
VERSION:2.0
PRODID:SchoolNow
CALSCALE:GREGORIAN
BEGIN:VEVENT
UID:576f4422-5dc4-11f0-bcd2-025d54e86bf1
DTSTAMP:20250710T193031Z
SUMMARY:APMS Volleyball Arbor @ Hamlin
URL;VALUE=URI:https://www.arbor145.org/calendar/8402803/apms-volleyball-arb
 or-vs-hamlin-clone
DTSTART;VALUE=DATE:20250904
DTEND;VALUE=DATE:20250905
END:VEVENT
END:VCALENDAR
