BEGIN:VCALENDAR
VERSION:2.0
PRODID:SchoolNow
CALSCALE:GREGORIAN
BEGIN:VEVENT
UID:7afb992c-5dc4-11f0-a3e1-0a58a9feac02
DTSTAMP:20250710T200333Z
SUMMARY:APMS Volleyball All Star Game vs Kolmar
URL;VALUE=URI:https://www.arbor145.org/calendar/8402804/volleyball-all-star
 -game-kolmar-clone
DTSTART;VALUE=DATE:20250908
DTEND;VALUE=DATE:20250909
END:VEVENT
END:VCALENDAR
