BEGIN:VCALENDAR
VERSION:2.0
PRODID:SchoolNow
CALSCALE:GREGORIAN
BEGIN:VEVENT
UID:932eb330-5dc4-11f0-8c8d-025d54e86bf1
DTSTAMP:20250710T193211Z
SUMMARY:APMS Volleyball Arbor @ Wilkins
URL;VALUE=URI:https://www.arbor145.org/calendar/8402805/apms-volleyball-arb
 or-wilkins-clone
DTSTART;VALUE=DATE:20250909
DTEND;VALUE=DATE:20250910
END:VEVENT
END:VCALENDAR
