BEGIN:VCALENDAR
VERSION:2.0
PRODID:SchoolNow
CALSCALE:GREGORIAN
BEGIN:VEVENT
UID:a6b11fe2-5dc4-11f0-a657-0affe40e2d29
DTSTAMP:20250710T193244Z
SUMMARY:APMS Volleyball Arbor @ Prairie
URL;VALUE=URI:https://www.arbor145.org/calendar/8402806/apms-volleyball-arb
 or-vs-prairie-clone
DTSTART;VALUE=DATE:20250911
DTEND;VALUE=DATE:20250912
END:VEVENT
END:VCALENDAR
