BEGIN:VCALENDAR
VERSION:2.0
PRODID:SchoolNow
CALSCALE:GREGORIAN
BEGIN:VEVENT
UID:b6662cac-5dc4-11f0-9f10-025d54e86bf1
DTSTAMP:20250710T193310Z
SUMMARY:APMS Volleyball Arbor @ Worth
URL;VALUE=URI:https://www.arbor145.org/calendar/8402807/apms-volleyball-arb
 or-vs-worth-clone
DTSTART;VALUE=DATE:20250916
DTEND;VALUE=DATE:20250917
END:VEVENT
END:VCALENDAR
