BEGIN:VCALENDAR
VERSION:2.0
PRODID:SchoolNow
CALSCALE:GREGORIAN
BEGIN:VEVENT
UID:5aa89502-5dc5-11f0-ae22-0a58a9feac02
DTSTAMP:20250710T193745Z
SUMMARY:APMS Volleyball Tournament Playoffs TBD
URL;VALUE=URI:https://www.arbor145.org/calendar/8402809/apms-volleyball-tou
 rnament-playoffs-tbd-clone
DTSTART;VALUE=DATE:20250923
DTEND;VALUE=DATE:20250924
END:VEVENT
END:VCALENDAR
