BEGIN:VCALENDAR
VERSION:2.0
PRODID:SchoolNow
CALSCALE:GREGORIAN
BEGIN:VEVENT
UID:7eab8dce-5dc5-11f0-806e-0a58a9feac02
DTSTAMP:20250710T193846Z
SUMMARY:APMS Volleyball Arbor vs Hille
URL;VALUE=URI:https://www.arbor145.org/calendar/8402810/apms-volleyball-arb
 or-vs-hille-clone
DTSTART;VALUE=DATE:20250918
DTEND;VALUE=DATE:20250919
END:VEVENT
END:VCALENDAR
