BEGIN:VCALENDAR
VERSION:2.0
PRODID:SchoolNow
CALSCALE:GREGORIAN
BEGIN:VEVENT
UID:a074d546-5dc5-11f0-8c28-0a58a9feac02
DTSTAMP:20250710T193943Z
SUMMARY:APMS Volleyball Tournament @ Wilkins
URL;VALUE=URI:https://www.arbor145.org/calendar/8402811/apms-volleyball-tou
 rnament-wilkins-clone
DTSTART;VALUE=DATE:20250925
DTEND;VALUE=DATE:20250926
END:VEVENT
END:VCALENDAR
