BEGIN:VCALENDAR
VERSION:2.0
PRODID:SchoolNow
CALSCALE:GREGORIAN
BEGIN:VEVENT
UID:ad899690-5dc5-11f0-bad6-0e5cca9c67d5
DTSTAMP:20250710T194004Z
SUMMARY:APMS Volleyball Tournament @ Wilkins
URL;VALUE=URI:https://www.arbor145.org/calendar/8402812/apms-volleyball-tou
 rnament-wilkins-clone-clone
DTSTART;VALUE=DATE:20250929
DTEND;VALUE=DATE:20250930
END:VEVENT
END:VCALENDAR
