BEGIN:VCALENDAR
VERSION:2.0
PRODID:SchoolNow
CALSCALE:GREGORIAN
BEGIN:VEVENT
UID:caa04184-5dc5-11f0-9e1c-0a58a9feac02
DTSTAMP:20250710T194053Z
SUMMARY:APMS Volleyball Tournament @ Wilkins
URL;VALUE=URI:https://www.arbor145.org/calendar/8402813/apms-volleyball-tou
 rnament-wilkins-clone-clone
DTSTART;VALUE=DATE:20251001
DTEND;VALUE=DATE:20251002
END:VEVENT
END:VCALENDAR
